BEGIN:VCALENDAR
VERSION:2.0
PRODID:-//Schachschule Karlsruhe - ECPv6.15.20//NONSGML v1.0//EN
CALSCALE:GREGORIAN
METHOD:PUBLISH
X-ORIGINAL-URL:https://schachschule-karlsruhe.de
X-WR-CALDESC:Veranstaltungen für Schachschule Karlsruhe
REFRESH-INTERVAL;VALUE=DURATION:PT1H
X-Robots-Tag:noindex
X-PUBLISHED-TTL:PT1H
BEGIN:VTIMEZONE
TZID:UTC
BEGIN:STANDARD
TZOFFSETFROM:+0000
TZOFFSETTO:+0000
TZNAME:UTC
DTSTART:20250101T000000
END:STANDARD
END:VTIMEZONE
BEGIN:VEVENT
DTSTART;TZID=UTC:20260212T160000
DTEND;TZID=UTC:20260212T164500
DTSTAMP:20260420T074436
CREATED:20260113T141840Z
LAST-MODIFIED:20260114T182325Z
UID:630-1770912000-1770914700@schachschule-karlsruhe.de
SUMMARY:Schachbambinis – Einsteigerkurs
DESCRIPTION:Schachbambinis – Einsteigerkurs
URL:https://schachschule-karlsruhe.de/termin/schachbambinis-4/
LOCATION:Bogenraum\, Steinstraße 23\, Karlsruhe\, 76133\, Germany
CATEGORIES:Schachkurs
END:VEVENT
BEGIN:VEVENT
DTSTART;TZID=UTC:20260212T170000
DTEND;TZID=UTC:20260212T180000
DTSTAMP:20260420T074436
CREATED:20260114T084120Z
LAST-MODIFIED:20260114T175421Z
UID:660-1770915600-1770919200@schachschule-karlsruhe.de
SUMMARY:Schachhelden – Grundkurs
DESCRIPTION:Schachhelden – Grundkurs
URL:https://schachschule-karlsruhe.de/termin/schachhelden-3/
LOCATION:Bogenraum\, Steinstraße 23\, Karlsruhe\, 76133\, Germany
CATEGORIES:Schachkurs
END:VEVENT
END:VCALENDAR