BEGIN:VCALENDAR
VERSION:2.0
PRODID:-//Schachschule Karlsruhe - ECPv6.15.20//NONSGML v1.0//EN
CALSCALE:GREGORIAN
METHOD:PUBLISH
X-ORIGINAL-URL:https://schachschule-karlsruhe.de
X-WR-CALDESC:Veranstaltungen für Schachschule Karlsruhe
REFRESH-INTERVAL;VALUE=DURATION:PT1H
X-Robots-Tag:noindex
X-PUBLISHED-TTL:PT1H
BEGIN:VTIMEZONE
TZID:UTC
BEGIN:STANDARD
TZOFFSETFROM:+0000
TZOFFSETTO:+0000
TZNAME:UTC
DTSTART:20250101T000000
END:STANDARD
END:VTIMEZONE
BEGIN:VEVENT
DTSTART;VALUE=DATE:20260328
DTEND;VALUE=DATE:20260413
DTSTAMP:20260420T025535
CREATED:20260113T142749Z
LAST-MODIFIED:20260113T142749Z
UID:641-1774656000-1776038399@schachschule-karlsruhe.de
SUMMARY:Osterferien
DESCRIPTION:
URL:https://schachschule-karlsruhe.de/termin/osterferien/
END:VEVENT
BEGIN:VEVENT
DTSTART;TZID=UTC:20260326T170000
DTEND;TZID=UTC:20260326T180000
DTSTAMP:20260420T025535
CREATED:20260114T085447Z
LAST-MODIFIED:20260114T175308Z
UID:666-1774544400-1774548000@schachschule-karlsruhe.de
SUMMARY:Schachhelden – Grundkurs
DESCRIPTION:Schachhelden – Grundkurs
URL:https://schachschule-karlsruhe.de/termin/schachhelden-6/
LOCATION:Bogenraum\, Steinstraße 23\, Karlsruhe\, 76133\, Germany
CATEGORIES:Schachkurs
END:VEVENT
BEGIN:VEVENT
DTSTART;TZID=UTC:20260326T160000
DTEND;TZID=UTC:20260326T164500
DTSTAMP:20260420T025535
CREATED:20260113T142056Z
LAST-MODIFIED:20260114T182141Z
UID:635-1774540800-1774543500@schachschule-karlsruhe.de
SUMMARY:Schachbambinis – Einsteigerkurs
DESCRIPTION:Schachbambinis – Einsteigerkurs
URL:https://schachschule-karlsruhe.de/termin/schachbambinis-6/
LOCATION:Bogenraum\, Steinstraße 23\, Karlsruhe\, 76133\, Germany
CATEGORIES:Schachkurs
END:VEVENT
BEGIN:VEVENT
DTSTART;TZID=UTC:20260312T170000
DTEND;TZID=UTC:20260312T180000
DTSTAMP:20260420T025535
CREATED:20260114T085348Z
LAST-MODIFIED:20260114T175349Z
UID:664-1773334800-1773338400@schachschule-karlsruhe.de
SUMMARY:Schachhelden – Grundkurs
DESCRIPTION:Schachhelden – Grundkurs
URL:https://schachschule-karlsruhe.de/termin/schachhelden-5/
LOCATION:Bogenraum\, Steinstraße 23\, Karlsruhe\, 76133\, Germany
CATEGORIES:Schachkurs
END:VEVENT
BEGIN:VEVENT
DTSTART;TZID=UTC:20260312T160000
DTEND;TZID=UTC:20260312T164500
DTSTAMP:20260420T025535
CREATED:20260113T142010Z
LAST-MODIFIED:20260114T182150Z
UID:632-1773331200-1773333900@schachschule-karlsruhe.de
SUMMARY:Schachbambinis – Einsteigerkurs
DESCRIPTION:Schachbambinis – Einsteigerkurs
URL:https://schachschule-karlsruhe.de/termin/schachbambinis-5/
LOCATION:Bogenraum\, Steinstraße 23\, Karlsruhe\, 76133\, Germany
CATEGORIES:Schachkurs
END:VEVENT
BEGIN:VEVENT
DTSTART;TZID=UTC:20260226T170000
DTEND;TZID=UTC:20260226T180000
DTSTAMP:20260420T025535
CREATED:20260114T084211Z
LAST-MODIFIED:20260114T175409Z
UID:662-1772125200-1772128800@schachschule-karlsruhe.de
SUMMARY:Schachhelden – Grundkurs
DESCRIPTION:Schachhelden – Grundkurs
URL:https://schachschule-karlsruhe.de/termin/schachhelden-4/
LOCATION:Bogenraum\, Steinstraße 23\, Karlsruhe\, 76133\, Germany
CATEGORIES:Schachkurs
END:VEVENT
BEGIN:VEVENT
DTSTART;TZID=UTC:20260226T160000
DTEND;TZID=UTC:20260226T164500
DTSTAMP:20260420T025535
CREATED:20260113T124230Z
LAST-MODIFIED:20260114T182238Z
UID:570-1772121600-1772124300@schachschule-karlsruhe.de
SUMMARY:Schachbambinis – Einsteigerkurs
DESCRIPTION:Schachbambinis – Einsteigerkurs
URL:https://schachschule-karlsruhe.de/termin/schachbambinis-3/
LOCATION:Bogenraum\, Steinstraße 23\, Karlsruhe\, 76133\, Germany
CATEGORIES:Schachkurs
END:VEVENT
BEGIN:VEVENT
DTSTART;VALUE=DATE:20260214
DTEND;VALUE=DATE:20260223
DTSTAMP:20260420T025535
CREATED:20260113T142857Z
LAST-MODIFIED:20260113T142857Z
UID:643-1771027200-1771804799@schachschule-karlsruhe.de
SUMMARY:Faschingsferien
DESCRIPTION:
URL:https://schachschule-karlsruhe.de/termin/faschingsferien/
END:VEVENT
BEGIN:VEVENT
DTSTART;TZID=UTC:20260212T170000
DTEND;TZID=UTC:20260212T180000
DTSTAMP:20260420T025535
CREATED:20260114T084120Z
LAST-MODIFIED:20260114T175421Z
UID:660-1770915600-1770919200@schachschule-karlsruhe.de
SUMMARY:Schachhelden – Grundkurs
DESCRIPTION:Schachhelden – Grundkurs
URL:https://schachschule-karlsruhe.de/termin/schachhelden-3/
LOCATION:Bogenraum\, Steinstraße 23\, Karlsruhe\, 76133\, Germany
CATEGORIES:Schachkurs
END:VEVENT
BEGIN:VEVENT
DTSTART;TZID=UTC:20260212T160000
DTEND;TZID=UTC:20260212T164500
DTSTAMP:20260420T025535
CREATED:20260113T141840Z
LAST-MODIFIED:20260114T182325Z
UID:630-1770912000-1770914700@schachschule-karlsruhe.de
SUMMARY:Schachbambinis – Einsteigerkurs
DESCRIPTION:Schachbambinis – Einsteigerkurs
URL:https://schachschule-karlsruhe.de/termin/schachbambinis-4/
LOCATION:Bogenraum\, Steinstraße 23\, Karlsruhe\, 76133\, Germany
CATEGORIES:Schachkurs
END:VEVENT
BEGIN:VEVENT
DTSTART;TZID=UTC:20260205T170000
DTEND;TZID=UTC:20260205T180000
DTSTAMP:20260420T025535
CREATED:20260114T083748Z
LAST-MODIFIED:20260114T175427Z
UID:658-1770310800-1770314400@schachschule-karlsruhe.de
SUMMARY:Schachhelden – Grundkurs
DESCRIPTION:Schachhelden – Grundkurs
URL:https://schachschule-karlsruhe.de/termin/schachhelden-2/
LOCATION:Bogenraum\, Steinstraße 23\, Karlsruhe\, 76133\, Germany
CATEGORIES:Schachkurs
END:VEVENT
BEGIN:VEVENT
DTSTART;TZID=UTC:20260205T160000
DTEND;TZID=UTC:20260205T164500
DTSTAMP:20260420T025535
CREATED:20260113T084851Z
LAST-MODIFIED:20260114T182242Z
UID:481-1770307200-1770309900@schachschule-karlsruhe.de
SUMMARY:Schachbambinis – Einsteigerkurs
DESCRIPTION:Schachbambinis – Einsteigerkurs
URL:https://schachschule-karlsruhe.de/termin/schachbambinis-2/
LOCATION:Bogenraum\, Steinstraße 23\, Karlsruhe\, 76133\, Germany
CATEGORIES:Schachkurs
END:VEVENT
BEGIN:VEVENT
DTSTART;TZID=UTC:20260129T170000
DTEND;TZID=UTC:20260129T180000
DTSTAMP:20260420T025535
CREATED:20260114T083645Z
LAST-MODIFIED:20260114T175434Z
UID:655-1769706000-1769709600@schachschule-karlsruhe.de
SUMMARY:Schachhelden – Grundkurs
DESCRIPTION:Schachhelden – Grundkurs
URL:https://schachschule-karlsruhe.de/termin/schachhelden-1/
LOCATION:Bogenraum\, Steinstraße 23\, Karlsruhe\, 76133\, Germany
CATEGORIES:Schachkurs
END:VEVENT
BEGIN:VEVENT
DTSTART;TZID=UTC:20260129T160000
DTEND;TZID=UTC:20260129T164500
DTSTAMP:20260420T025535
CREATED:20260111T223307Z
LAST-MODIFIED:20260114T182247Z
UID:454-1769702400-1769705100@schachschule-karlsruhe.de
SUMMARY:Schachbambinis – Einsteigerkurs
DESCRIPTION:Schachbambinis – Einsteigerkurs
URL:https://schachschule-karlsruhe.de/termin/schachbambinis-1/
LOCATION:Bogenraum\, Steinstraße 23\, Karlsruhe\, 76133\, Germany
CATEGORIES:Schachkurs
END:VEVENT
END:VCALENDAR