BEGIN:VCALENDAR
VERSION:2.0
PRODID:-//Schachschule Karlsruhe - ECPv6.15.20//NONSGML v1.0//EN
CALSCALE:GREGORIAN
METHOD:PUBLISH
X-ORIGINAL-URL:https://schachschule-karlsruhe.de
X-WR-CALDESC:Veranstaltungen für Schachschule Karlsruhe
REFRESH-INTERVAL;VALUE=DURATION:PT1H
X-Robots-Tag:noindex
X-PUBLISHED-TTL:PT1H
BEGIN:VTIMEZONE
TZID:UTC
BEGIN:STANDARD
TZOFFSETFROM:+0000
TZOFFSETTO:+0000
TZNAME:UTC
DTSTART:20250101T000000
END:STANDARD
END:VTIMEZONE
BEGIN:VEVENT
DTSTART;TZID=UTC:20260423T160000
DTEND;TZID=UTC:20260423T164500
DTSTAMP:20260420T025432
CREATED:20260113T142434Z
LAST-MODIFIED:20260114T175640Z
UID:637-1776960000-1776962700@schachschule-karlsruhe.de
SUMMARY:Schachbambinis – Einsteigerkurs
DESCRIPTION:Schachbambinis – Einsteigerkurs
URL:https://schachschule-karlsruhe.de/termin/schachbambinis-7/
LOCATION:Bogenraum\, Steinstraße 23\, Karlsruhe\, 76133\, Germany
CATEGORIES:Schachkurs
END:VEVENT
BEGIN:VEVENT
DTSTART;TZID=UTC:20260423T170000
DTEND;TZID=UTC:20260423T180000
DTSTAMP:20260420T025432
CREATED:20260114T085516Z
LAST-MODIFIED:20260114T175310Z
UID:668-1776963600-1776967200@schachschule-karlsruhe.de
SUMMARY:Schachhelden – Grundkurs
DESCRIPTION:Schachhelden – Grundkurs
URL:https://schachschule-karlsruhe.de/termin/schachhelden-7/
LOCATION:Bogenraum\, Steinstraße 23\, Karlsruhe\, 76133\, Germany
CATEGORIES:Schachkurs
END:VEVENT
END:VCALENDAR